BEGIN:VCALENDAR
VERSION:2.0
PRODID:-//MCDHH - ECPv6.15.20//NONSGML v1.0//EN
CALSCALE:GREGORIAN
METHOD:PUBLISH
X-WR-CALNAME:MCDHH
X-ORIGINAL-URL:https://mcdhh.mo.gov
X-WR-CALDESC:Events for MCDHH
REFRESH-INTERVAL;VALUE=DURATION:PT1H
X-Robots-Tag:noindex
X-PUBLISHED-TTL:PT1H
BEGIN:VTIMEZONE
TZID:UTC
BEGIN:STANDARD
TZOFFSETFROM:+0000
TZOFFSETTO:+0000
TZNAME:UTC
DTSTART:20240101T000000
END:STANDARD
END:VTIMEZONE
BEGIN:VEVENT
DTSTART;TZID=UTC:20250801T080000
DTEND;TZID=UTC:20250807T170000
DTSTAMP:20260425T191244
CREATED:20241105T235651Z
LAST-MODIFIED:20241105T235651Z
UID:13743-1754035200-1754586000@mcdhh.mo.gov
SUMMARY:Deaf Seniors of America Conference 2025
DESCRIPTION:Deaf Seniors of America Conference 2025 \nAugust 1st-7th 2025 \nMarriot Downtown Hotel: Kansas City\, MO \nEarly Bird Combo Registration DEADLINE: December 31st 2024
URL:https://mcdhh.mo.gov/events/deaf-seniors-of-america-conference-2025/
LOCATION:MO
END:VEVENT
END:VCALENDAR