BEGIN:VCALENDAR
VERSION:2.0
PRODID:-//MCDHH - ECPv6.15.20//NONSGML v1.0//EN
CALSCALE:GREGORIAN
METHOD:PUBLISH
X-WR-CALNAME:MCDHH
X-ORIGINAL-URL:https://mcdhh.mo.gov
X-WR-CALDESC:Events for MCDHH
REFRESH-INTERVAL;VALUE=DURATION:PT1H
X-Robots-Tag:noindex
X-PUBLISHED-TTL:PT1H
BEGIN:VTIMEZONE
TZID:UTC
BEGIN:STANDARD
TZOFFSETFROM:+0000
TZOFFSETTO:+0000
TZNAME:UTC
DTSTART:20210101T000000
END:STANDARD
END:VTIMEZONE
BEGIN:VEVENT
DTSTART;TZID=UTC:20220718T083000
DTEND;TZID=UTC:20220722T120000
DTSTAMP:20260425T151932
CREATED:20220614T232918Z
LAST-MODIFIED:20220614T234005Z
UID:2335-1658133000-1658491200@mcdhh.mo.gov
SUMMARY:ASL Jesus Signs Immersion
DESCRIPTION:In-person Immersion at:\nImmanuel Lutheran 115 S. 6th St. St. Charles\, MO. 63301 \n3.6 RID CEUS (PS) \nInstructor Name: Rev. Dr. John Reinke\, Rev. William Palmer \nStart Date: 07/18/2022 08:00 AM \nEnd Date: 07/22/2022 12:00 PM \nTarget Audience: \n4 different training groups: \nDeaf Group within depth training and resources \nHearing Groups: Beginner\, Intermediate\, and Advanced (Interpreters) \nWorkshop/Course Description: \n·   religious sign skills – beginning\, intermediate\, or advanced \n·   resources for teaching and training Deaf people \n·   ongoing support and resources to use in your area \n·   skills and ideas how to reach out \n·   sharing ideas how we can work together to meet your needs. \nEducational Objectives  \n\nLevel 1\, beginning sign language\, simple prayers and songs and simple scripture\nLevel 2\, intermediate sign language\, more complex prayers and hymns and scripture\nLevel 3\, pre-interpreting/interpreting level\, advanced liturgy\, prayers and hymns and interpreting sermons and scripture.
URL:https://mcdhh.mo.gov/events/asl-jesus-signs-immersion/
LOCATION:Immanual Lutheran\, 115 S. 6th St.\, St. Charles\, MO\, 63301\, United States
ORGANIZER;CN="John Reinke":MAILTO:revreinke@gmail.com
END:VEVENT
BEGIN:VEVENT
DTSTART;TZID=UTC:20220718T170000
DTEND;TZID=UTC:20220718T200000
DTSTAMP:20260425T151932
CREATED:20220615T001252Z
LAST-MODIFIED:20220615T001252Z
UID:2340-1658163600-1658174400@mcdhh.mo.gov
SUMMARY:The Significant Impact of Quick Research\, Comicon Version!
DESCRIPTION:In person at: Cap Gun Studio  1219 Union Ave. KC MO.   (This is not an ADA-accessible space) *Stairs only to the second floor*\n\n0.3 RID CEUS (GS) \nDescription: Have you ever accepted a very niche-specific job and immediately thought “WHY DID I TAKE THAT?” As an interpreter it’s essential to render the message faithfully\, but how do you render “It’s bigger on the inside!” ? What the heck does that mean? Well\, I can tell you who knows\, the presenter and the client. As the intermediary\, how do you deliver the content without taking away the whimsey of this statement? \nWell have no fear\, in this workshop\, you will learn how to utilize apps on your personal device when you’re in a rush! This will help you add to your already ginormous toolbag of skills\, give you practice on how to research quickly\, and build enough confidence to say “I got this!”
URL:https://mcdhh.mo.gov/events/the-significant-impact-of-quick-research-comicon-version/
LOCATION:Cap Gun Studios\, 1219 Union Ave\, Kansas City\, Missouri\, 64101\, United States
ORGANIZER;CN="E. Peige Turner":MAILTO:peige@turnerinterpreting.com
END:VEVENT
END:VCALENDAR